BEGIN:VCALENDAR
VERSION:2.0
PRODID:-//Trinity Boston Connects - ECPv6.15.20//NONSGML v1.0//EN
CALSCALE:GREGORIAN
METHOD:PUBLISH
X-WR-CALNAME:Trinity Boston Connects
X-ORIGINAL-URL:https://trinityconnects.org
X-WR-CALDESC:Events for Trinity Boston Connects
REFRESH-INTERVAL;VALUE=DURATION:PT1H
X-Robots-Tag:noindex
X-PUBLISHED-TTL:PT1H
BEGIN:VTIMEZONE
TZID:UTC
BEGIN:STANDARD
TZOFFSETFROM:+0000
TZOFFSETTO:+0000
TZNAME:UTC
DTSTART:20220101T000000
END:STANDARD
END:VTIMEZONE
BEGIN:VEVENT
DTSTART;TZID=UTC:20230216T150000
DTEND;TZID=UTC:20230216T161500
DTSTAMP:20260423T013442
CREATED:20230118T202815Z
LAST-MODIFIED:20230118T202815Z
UID:7510-1676559600-1676564100@trinityconnects.org
SUMMARY:POC Tea Time
DESCRIPTION:We know the stress of our lives and this political climate negatively impacts our wellness. It’s more important than ever that we break the cycle of stress and proactively care for our mental and emotional health. If you’re a POC nonprofit employee we invite you to come expand your self-care tool kit and strengthen your mindfulness skills in community with like-minded folks every third Thursday. \nQuestions? Contact Danny Pang at dpang@trinityconnects.org  \n  \n  \n  \n 
URL:https://trinityconnects.org/calendar/poc-tea-time/
LOCATION:Zoom
CATEGORIES:OEP
ATTACH;FMTTYPE=image/jpeg:https://trinityconnects.org/wp-content/uploads/2023/01/OEP-Tea-Time-e1674160478987.jpg
END:VEVENT
END:VCALENDAR